BEGIN:VCALENDAR
VERSION:2.0
PRODID:-//Knights of Columbus Council 3774 - ECPv6.15.20//NONSGML v1.0//EN
CALSCALE:GREGORIAN
METHOD:PUBLISH
X-WR-CALNAME:Knights of Columbus Council 3774
X-ORIGINAL-URL:https://www.kofc3774.org
X-WR-CALDESC:Events for Knights of Columbus Council 3774
REFRESH-INTERVAL;VALUE=DURATION:PT1H
X-Robots-Tag:noindex
X-PUBLISHED-TTL:PT1H
BEGIN:VTIMEZONE
TZID:UTC
BEGIN:STANDARD
TZOFFSETFROM:+0000
TZOFFSETTO:+0000
TZNAME:UTC
DTSTART:20250101T000000
END:STANDARD
END:VTIMEZONE
BEGIN:VEVENT
DTSTART;TZID=UTC:20260304T190000
DTEND;TZID=UTC:20260304T210000
DTSTAMP:20260423T111952
CREATED:20240716T062643Z
LAST-MODIFIED:20240716T062646Z
UID:10000573-1772650800-1772658000@www.kofc3774.org
SUMMARY:General Meeting
DESCRIPTION:A General Meeting for the Knights of Columbus is a regular assembly where members of this Catholic fraternal organization come together to discuss and plan charitable activities\, community outreach\, and administrative matters. These gatherings serve as a forum for members to strengthen their bonds\, coordinate philanthropic efforts\, and uphold the organization’s core principles of charity\, unity\, and fraternity.
URL:https://www.kofc3774.org/event/general-meeting-3/2026-03-04/
LOCATION:Father Saylor Council #3774 17113 Champaign Allen Park\, Michigan 48101 USA\, 17113 Champaign\, Allen Park\, MI\, 48101\, United States
ATTACH;FMTTYPE=image/jpeg:https://www.kofc3774.org/wp-content/uploads/2023/10/Pic-of-the-Council-1-scaled-1.jpg
END:VEVENT
END:VCALENDAR