BEGIN:VCALENDAR
VERSION:2.0
PRODID:-//Knights of Columbus Council 3774 - ECPv6.15.20//NONSGML v1.0//EN
CALSCALE:GREGORIAN
METHOD:PUBLISH
X-ORIGINAL-URL:https://www.kofc3774.org
X-WR-CALDESC:Events for Knights of Columbus Council 3774
REFRESH-INTERVAL;VALUE=DURATION:PT1H
X-Robots-Tag:noindex
X-PUBLISHED-TTL:PT1H
BEGIN:VTIMEZONE
TZID:UTC
BEGIN:STANDARD
TZOFFSETFROM:+0000
TZOFFSETTO:+0000
TZNAME:UTC
DTSTART:20250101T000000
END:STANDARD
END:VTIMEZONE
BEGIN:VTIMEZONE
TZID:America/Detroit
BEGIN:DAYLIGHT
TZOFFSETFROM:-0500
TZOFFSETTO:-0400
TZNAME:EDT
DTSTART:20250309T070000
END:DAYLIGHT
BEGIN:STANDARD
TZOFFSETFROM:-0400
TZOFFSETTO:-0500
TZNAME:EST
DTSTART:20251102T060000
END:STANDARD
BEGIN:DAYLIGHT
TZOFFSETFROM:-0500
TZOFFSETTO:-0400
TZNAME:EDT
DTSTART:20260308T070000
END:DAYLIGHT
BEGIN:STANDARD
TZOFFSETFROM:-0400
TZOFFSETTO:-0500
TZNAME:EST
DTSTART:20261101T060000
END:STANDARD
BEGIN:DAYLIGHT
TZOFFSETFROM:-0500
TZOFFSETTO:-0400
TZNAME:EDT
DTSTART:20270314T070000
END:DAYLIGHT
BEGIN:STANDARD
TZOFFSETFROM:-0400
TZOFFSETTO:-0500
TZNAME:EST
DTSTART:20271107T060000
END:STANDARD
END:VTIMEZONE
BEGIN:VEVENT
DTSTART;TZID=UTC:20260707T190000
DTEND;TZID=UTC:20260707T213000
DTSTAMP:20260422T022338
CREATED:20240716T062727Z
LAST-MODIFIED:20240716T062731Z
UID:10000160-1783450800-1783459800@www.kofc3774.org
SUMMARY:Euchre Night
DESCRIPTION:Members of the Knights of Columbus come together to enjoy a game of Euchre\, fostering camaraderie and community within the organization. Participants engage in a fun and competitive atmosphere while strengthening their bonds and sharing lighthearted moments with fellow members.
URL:https://www.kofc3774.org/event/euchre-night/2026-07-07/
LOCATION:Father Saylor Council #3774 17113 Champaign Allen Park\, Michigan 48101 USA\, 17113 Champaign\, Allen Park\, MI\, 48101\, United States
ATTACH;FMTTYPE=image/png:https://www.kofc3774.org/wp-content/uploads/2023/10/Screenshot-2023-10-30-154442.png
END:VEVENT
BEGIN:VEVENT
DTSTART;TZID=America/Detroit:20260708T190000
DTEND;TZID=America/Detroit:20260708T210000
DTSTAMP:20260422T022338
CREATED:20240716T063058Z
LAST-MODIFIED:20240716T063141Z
UID:10000761-1783537200-1783544400@www.kofc3774.org
SUMMARY:Building Association Meeting
DESCRIPTION:The BA meets monthly to discuss building and grounds issues as well as all of the Member Lounge activities.
URL:https://www.kofc3774.org/event/building-association-meeting-3/2026-07-08/
LOCATION:Father Saylor Council #3774 17113 Champaign Allen Park\, Michigan 48101 USA\, 17113 Champaign\, Allen Park\, MI\, 48101\, United States
END:VEVENT
BEGIN:VEVENT
DTSTART;TZID=UTC:20260713T170000
DTEND;TZID=UTC:20260713T190000
DTSTAMP:20260422T022338
CREATED:20240716T062532Z
LAST-MODIFIED:20240716T062535Z
UID:10000425-1783962000-1783969200@www.kofc3774.org
SUMMARY:Brenda's Home Cooking
DESCRIPTION:Every Monday Brenda Price makes home cooked meals along with a dessert with prices ranging from $8 to $12. It is first come\, first serve and she usually sells out.
URL:https://www.kofc3774.org/event/brendas-home-cooking-3/2026-07-13/
LOCATION:Member Lounge\, 17113 Champaign\, Allen Park\, MI\, 48101\, United States
END:VEVENT
BEGIN:VEVENT
DTSTART;TZID=UTC:20260714T190000
DTEND;TZID=UTC:20260714T213000
DTSTAMP:20260422T022338
CREATED:20240716T062727Z
LAST-MODIFIED:20240716T062731Z
UID:10000161-1784055600-1784064600@www.kofc3774.org
SUMMARY:Euchre Night
DESCRIPTION:Members of the Knights of Columbus come together to enjoy a game of Euchre\, fostering camaraderie and community within the organization. Participants engage in a fun and competitive atmosphere while strengthening their bonds and sharing lighthearted moments with fellow members.
URL:https://www.kofc3774.org/event/euchre-night/2026-07-14/
LOCATION:Father Saylor Council #3774 17113 Champaign Allen Park\, Michigan 48101 USA\, 17113 Champaign\, Allen Park\, MI\, 48101\, United States
ATTACH;FMTTYPE=image/png:https://www.kofc3774.org/wp-content/uploads/2023/10/Screenshot-2023-10-30-154442.png
END:VEVENT
BEGIN:VEVENT
DTSTART;TZID=UTC:20260720T170000
DTEND;TZID=UTC:20260720T190000
DTSTAMP:20260422T022338
CREATED:20240716T062532Z
LAST-MODIFIED:20240716T062535Z
UID:10000426-1784566800-1784574000@www.kofc3774.org
SUMMARY:Brenda's Home Cooking
DESCRIPTION:Every Monday Brenda Price makes home cooked meals along with a dessert with prices ranging from $8 to $12. It is first come\, first serve and she usually sells out.
URL:https://www.kofc3774.org/event/brendas-home-cooking-3/2026-07-20/
LOCATION:Member Lounge\, 17113 Champaign\, Allen Park\, MI\, 48101\, United States
END:VEVENT
BEGIN:VEVENT
DTSTART;TZID=UTC:20260721T190000
DTEND;TZID=UTC:20260721T213000
DTSTAMP:20260422T022338
CREATED:20240716T062727Z
LAST-MODIFIED:20240716T062731Z
UID:10000162-1784660400-1784669400@www.kofc3774.org
SUMMARY:Euchre Night
DESCRIPTION:Members of the Knights of Columbus come together to enjoy a game of Euchre\, fostering camaraderie and community within the organization. Participants engage in a fun and competitive atmosphere while strengthening their bonds and sharing lighthearted moments with fellow members.
URL:https://www.kofc3774.org/event/euchre-night/2026-07-21/
LOCATION:Father Saylor Council #3774 17113 Champaign Allen Park\, Michigan 48101 USA\, 17113 Champaign\, Allen Park\, MI\, 48101\, United States
ATTACH;FMTTYPE=image/png:https://www.kofc3774.org/wp-content/uploads/2023/10/Screenshot-2023-10-30-154442.png
END:VEVENT
BEGIN:VEVENT
DTSTART;TZID=UTC:20260727T170000
DTEND;TZID=UTC:20260727T190000
DTSTAMP:20260422T022338
CREATED:20240716T062532Z
LAST-MODIFIED:20240716T062535Z
UID:10000427-1785171600-1785178800@www.kofc3774.org
SUMMARY:Brenda's Home Cooking
DESCRIPTION:Every Monday Brenda Price makes home cooked meals along with a dessert with prices ranging from $8 to $12. It is first come\, first serve and she usually sells out.
URL:https://www.kofc3774.org/event/brendas-home-cooking-3/2026-07-27/
LOCATION:Member Lounge\, 17113 Champaign\, Allen Park\, MI\, 48101\, United States
END:VEVENT
BEGIN:VEVENT
DTSTART;TZID=UTC:20260728T190000
DTEND;TZID=UTC:20260728T213000
DTSTAMP:20260422T022338
CREATED:20240716T062727Z
LAST-MODIFIED:20240716T062731Z
UID:10000163-1785265200-1785274200@www.kofc3774.org
SUMMARY:Euchre Night
DESCRIPTION:Members of the Knights of Columbus come together to enjoy a game of Euchre\, fostering camaraderie and community within the organization. Participants engage in a fun and competitive atmosphere while strengthening their bonds and sharing lighthearted moments with fellow members.
URL:https://www.kofc3774.org/event/euchre-night/2026-07-28/
LOCATION:Father Saylor Council #3774 17113 Champaign Allen Park\, Michigan 48101 USA\, 17113 Champaign\, Allen Park\, MI\, 48101\, United States
ATTACH;FMTTYPE=image/png:https://www.kofc3774.org/wp-content/uploads/2023/10/Screenshot-2023-10-30-154442.png
END:VEVENT
BEGIN:VEVENT
DTSTART;TZID=UTC:20260803T170000
DTEND;TZID=UTC:20260803T190000
DTSTAMP:20260422T022338
CREATED:20240716T062532Z
LAST-MODIFIED:20240716T062535Z
UID:10000428-1785776400-1785783600@www.kofc3774.org
SUMMARY:Brenda's Home Cooking
DESCRIPTION:Every Monday Brenda Price makes home cooked meals along with a dessert with prices ranging from $8 to $12. It is first come\, first serve and she usually sells out.
URL:https://www.kofc3774.org/event/brendas-home-cooking-3/2026-08-03/
LOCATION:Member Lounge\, 17113 Champaign\, Allen Park\, MI\, 48101\, United States
END:VEVENT
BEGIN:VEVENT
DTSTART;TZID=UTC:20260804T190000
DTEND;TZID=UTC:20260804T213000
DTSTAMP:20260422T022338
CREATED:20240716T062727Z
LAST-MODIFIED:20240716T062731Z
UID:10000164-1785870000-1785879000@www.kofc3774.org
SUMMARY:Euchre Night
DESCRIPTION:Members of the Knights of Columbus come together to enjoy a game of Euchre\, fostering camaraderie and community within the organization. Participants engage in a fun and competitive atmosphere while strengthening their bonds and sharing lighthearted moments with fellow members.
URL:https://www.kofc3774.org/event/euchre-night/2026-08-04/
LOCATION:Father Saylor Council #3774 17113 Champaign Allen Park\, Michigan 48101 USA\, 17113 Champaign\, Allen Park\, MI\, 48101\, United States
ATTACH;FMTTYPE=image/png:https://www.kofc3774.org/wp-content/uploads/2023/10/Screenshot-2023-10-30-154442.png
END:VEVENT
BEGIN:VEVENT
DTSTART;TZID=UTC:20260805T190000
DTEND;TZID=UTC:20260805T210000
DTSTAMP:20260422T022338
CREATED:20240716T062643Z
LAST-MODIFIED:20240716T062646Z
UID:10000578-1785956400-1785963600@www.kofc3774.org
SUMMARY:General Meeting
DESCRIPTION:A General Meeting for the Knights of Columbus is a regular assembly where members of this Catholic fraternal organization come together to discuss and plan charitable activities\, community outreach\, and administrative matters. These gatherings serve as a forum for members to strengthen their bonds\, coordinate philanthropic efforts\, and uphold the organization’s core principles of charity\, unity\, and fraternity.
URL:https://www.kofc3774.org/event/general-meeting-3/2026-08-05/
LOCATION:Father Saylor Council #3774 17113 Champaign Allen Park\, Michigan 48101 USA\, 17113 Champaign\, Allen Park\, MI\, 48101\, United States
ATTACH;FMTTYPE=image/jpeg:https://www.kofc3774.org/wp-content/uploads/2023/10/Pic-of-the-Council-1-scaled-1.jpg
END:VEVENT
BEGIN:VEVENT
DTSTART;TZID=UTC:20260810T170000
DTEND;TZID=UTC:20260810T190000
DTSTAMP:20260422T022338
CREATED:20240716T062532Z
LAST-MODIFIED:20240716T062535Z
UID:10000429-1786381200-1786388400@www.kofc3774.org
SUMMARY:Brenda's Home Cooking
DESCRIPTION:Every Monday Brenda Price makes home cooked meals along with a dessert with prices ranging from $8 to $12. It is first come\, first serve and she usually sells out.
URL:https://www.kofc3774.org/event/brendas-home-cooking-3/2026-08-10/
LOCATION:Member Lounge\, 17113 Champaign\, Allen Park\, MI\, 48101\, United States
END:VEVENT
BEGIN:VEVENT
DTSTART;TZID=UTC:20260811T190000
DTEND;TZID=UTC:20260811T213000
DTSTAMP:20260422T022338
CREATED:20240716T062727Z
LAST-MODIFIED:20240716T062731Z
UID:10000165-1786474800-1786483800@www.kofc3774.org
SUMMARY:Euchre Night
DESCRIPTION:Members of the Knights of Columbus come together to enjoy a game of Euchre\, fostering camaraderie and community within the organization. Participants engage in a fun and competitive atmosphere while strengthening their bonds and sharing lighthearted moments with fellow members.
URL:https://www.kofc3774.org/event/euchre-night/2026-08-11/
LOCATION:Father Saylor Council #3774 17113 Champaign Allen Park\, Michigan 48101 USA\, 17113 Champaign\, Allen Park\, MI\, 48101\, United States
ATTACH;FMTTYPE=image/png:https://www.kofc3774.org/wp-content/uploads/2023/10/Screenshot-2023-10-30-154442.png
END:VEVENT
BEGIN:VEVENT
DTSTART;TZID=America/Detroit:20260812T190000
DTEND;TZID=America/Detroit:20260812T210000
DTSTAMP:20260422T022338
CREATED:20240716T063058Z
LAST-MODIFIED:20240716T063141Z
UID:10000762-1786561200-1786568400@www.kofc3774.org
SUMMARY:Building Association Meeting
DESCRIPTION:The BA meets monthly to discuss building and grounds issues as well as all of the Member Lounge activities.
URL:https://www.kofc3774.org/event/building-association-meeting-3/2026-08-12/
LOCATION:Father Saylor Council #3774 17113 Champaign Allen Park\, Michigan 48101 USA\, 17113 Champaign\, Allen Park\, MI\, 48101\, United States
END:VEVENT
BEGIN:VEVENT
DTSTART;TZID=UTC:20260817T170000
DTEND;TZID=UTC:20260817T190000
DTSTAMP:20260422T022338
CREATED:20240716T062532Z
LAST-MODIFIED:20240716T062535Z
UID:10000430-1786986000-1786993200@www.kofc3774.org
SUMMARY:Brenda's Home Cooking
DESCRIPTION:Every Monday Brenda Price makes home cooked meals along with a dessert with prices ranging from $8 to $12. It is first come\, first serve and she usually sells out.
URL:https://www.kofc3774.org/event/brendas-home-cooking-3/2026-08-17/
LOCATION:Member Lounge\, 17113 Champaign\, Allen Park\, MI\, 48101\, United States
END:VEVENT
BEGIN:VEVENT
DTSTART;TZID=UTC:20260818T190000
DTEND;TZID=UTC:20260818T213000
DTSTAMP:20260422T022338
CREATED:20240716T062727Z
LAST-MODIFIED:20240716T062731Z
UID:10000166-1787079600-1787088600@www.kofc3774.org
SUMMARY:Euchre Night
DESCRIPTION:Members of the Knights of Columbus come together to enjoy a game of Euchre\, fostering camaraderie and community within the organization. Participants engage in a fun and competitive atmosphere while strengthening their bonds and sharing lighthearted moments with fellow members.
URL:https://www.kofc3774.org/event/euchre-night/2026-08-18/
LOCATION:Father Saylor Council #3774 17113 Champaign Allen Park\, Michigan 48101 USA\, 17113 Champaign\, Allen Park\, MI\, 48101\, United States
ATTACH;FMTTYPE=image/png:https://www.kofc3774.org/wp-content/uploads/2023/10/Screenshot-2023-10-30-154442.png
END:VEVENT
BEGIN:VEVENT
DTSTART;TZID=UTC:20260824T170000
DTEND;TZID=UTC:20260824T190000
DTSTAMP:20260422T022338
CREATED:20240716T062532Z
LAST-MODIFIED:20240716T062535Z
UID:10000431-1787590800-1787598000@www.kofc3774.org
SUMMARY:Brenda's Home Cooking
DESCRIPTION:Every Monday Brenda Price makes home cooked meals along with a dessert with prices ranging from $8 to $12. It is first come\, first serve and she usually sells out.
URL:https://www.kofc3774.org/event/brendas-home-cooking-3/2026-08-24/
LOCATION:Member Lounge\, 17113 Champaign\, Allen Park\, MI\, 48101\, United States
END:VEVENT
BEGIN:VEVENT
DTSTART;TZID=UTC:20260825T190000
DTEND;TZID=UTC:20260825T213000
DTSTAMP:20260422T022338
CREATED:20240716T062727Z
LAST-MODIFIED:20240716T062731Z
UID:10000167-1787684400-1787693400@www.kofc3774.org
SUMMARY:Euchre Night
DESCRIPTION:Members of the Knights of Columbus come together to enjoy a game of Euchre\, fostering camaraderie and community within the organization. Participants engage in a fun and competitive atmosphere while strengthening their bonds and sharing lighthearted moments with fellow members.
URL:https://www.kofc3774.org/event/euchre-night/2026-08-25/
LOCATION:Father Saylor Council #3774 17113 Champaign Allen Park\, Michigan 48101 USA\, 17113 Champaign\, Allen Park\, MI\, 48101\, United States
ATTACH;FMTTYPE=image/png:https://www.kofc3774.org/wp-content/uploads/2023/10/Screenshot-2023-10-30-154442.png
END:VEVENT
BEGIN:VEVENT
DTSTART;TZID=UTC:20260831T170000
DTEND;TZID=UTC:20260831T190000
DTSTAMP:20260422T022338
CREATED:20240716T062532Z
LAST-MODIFIED:20240716T062535Z
UID:10000432-1788195600-1788202800@www.kofc3774.org
SUMMARY:Brenda's Home Cooking
DESCRIPTION:Every Monday Brenda Price makes home cooked meals along with a dessert with prices ranging from $8 to $12. It is first come\, first serve and she usually sells out.
URL:https://www.kofc3774.org/event/brendas-home-cooking-3/2026-08-31/
LOCATION:Member Lounge\, 17113 Champaign\, Allen Park\, MI\, 48101\, United States
END:VEVENT
BEGIN:VEVENT
DTSTART;TZID=UTC:20260901T190000
DTEND;TZID=UTC:20260901T213000
DTSTAMP:20260422T022338
CREATED:20240716T062727Z
LAST-MODIFIED:20240716T062731Z
UID:10000168-1788289200-1788298200@www.kofc3774.org
SUMMARY:Euchre Night
DESCRIPTION:Members of the Knights of Columbus come together to enjoy a game of Euchre\, fostering camaraderie and community within the organization. Participants engage in a fun and competitive atmosphere while strengthening their bonds and sharing lighthearted moments with fellow members.
URL:https://www.kofc3774.org/event/euchre-night/2026-09-01/
LOCATION:Father Saylor Council #3774 17113 Champaign Allen Park\, Michigan 48101 USA\, 17113 Champaign\, Allen Park\, MI\, 48101\, United States
ATTACH;FMTTYPE=image/png:https://www.kofc3774.org/wp-content/uploads/2023/10/Screenshot-2023-10-30-154442.png
END:VEVENT
BEGIN:VEVENT
DTSTART;TZID=UTC:20260902T190000
DTEND;TZID=UTC:20260902T210000
DTSTAMP:20260422T022338
CREATED:20240716T062643Z
LAST-MODIFIED:20240716T062646Z
UID:10000579-1788375600-1788382800@www.kofc3774.org
SUMMARY:General Meeting
DESCRIPTION:A General Meeting for the Knights of Columbus is a regular assembly where members of this Catholic fraternal organization come together to discuss and plan charitable activities\, community outreach\, and administrative matters. These gatherings serve as a forum for members to strengthen their bonds\, coordinate philanthropic efforts\, and uphold the organization’s core principles of charity\, unity\, and fraternity.
URL:https://www.kofc3774.org/event/general-meeting-3/2026-09-02/
LOCATION:Father Saylor Council #3774 17113 Champaign Allen Park\, Michigan 48101 USA\, 17113 Champaign\, Allen Park\, MI\, 48101\, United States
ATTACH;FMTTYPE=image/jpeg:https://www.kofc3774.org/wp-content/uploads/2023/10/Pic-of-the-Council-1-scaled-1.jpg
END:VEVENT
BEGIN:VEVENT
DTSTART;TZID=UTC:20260907T170000
DTEND;TZID=UTC:20260907T190000
DTSTAMP:20260422T022338
CREATED:20240716T062532Z
LAST-MODIFIED:20240716T062535Z
UID:10000433-1788800400-1788807600@www.kofc3774.org
SUMMARY:Brenda's Home Cooking
DESCRIPTION:Every Monday Brenda Price makes home cooked meals along with a dessert with prices ranging from $8 to $12. It is first come\, first serve and she usually sells out.
URL:https://www.kofc3774.org/event/brendas-home-cooking-3/2026-09-07/
LOCATION:Member Lounge\, 17113 Champaign\, Allen Park\, MI\, 48101\, United States
END:VEVENT
BEGIN:VEVENT
DTSTART;TZID=UTC:20260908T190000
DTEND;TZID=UTC:20260908T213000
DTSTAMP:20260422T022338
CREATED:20240716T062727Z
LAST-MODIFIED:20240716T062731Z
UID:10000169-1788894000-1788903000@www.kofc3774.org
SUMMARY:Euchre Night
DESCRIPTION:Members of the Knights of Columbus come together to enjoy a game of Euchre\, fostering camaraderie and community within the organization. Participants engage in a fun and competitive atmosphere while strengthening their bonds and sharing lighthearted moments with fellow members.
URL:https://www.kofc3774.org/event/euchre-night/2026-09-08/
LOCATION:Father Saylor Council #3774 17113 Champaign Allen Park\, Michigan 48101 USA\, 17113 Champaign\, Allen Park\, MI\, 48101\, United States
ATTACH;FMTTYPE=image/png:https://www.kofc3774.org/wp-content/uploads/2023/10/Screenshot-2023-10-30-154442.png
END:VEVENT
BEGIN:VEVENT
DTSTART;TZID=America/Detroit:20260909T190000
DTEND;TZID=America/Detroit:20260909T210000
DTSTAMP:20260422T022338
CREATED:20240716T063058Z
LAST-MODIFIED:20240716T063141Z
UID:10000763-1788980400-1788987600@www.kofc3774.org
SUMMARY:Building Association Meeting
DESCRIPTION:The BA meets monthly to discuss building and grounds issues as well as all of the Member Lounge activities.
URL:https://www.kofc3774.org/event/building-association-meeting-3/2026-09-09/
LOCATION:Father Saylor Council #3774 17113 Champaign Allen Park\, Michigan 48101 USA\, 17113 Champaign\, Allen Park\, MI\, 48101\, United States
END:VEVENT
BEGIN:VEVENT
DTSTART;TZID=UTC:20260914T170000
DTEND;TZID=UTC:20260914T190000
DTSTAMP:20260422T022338
CREATED:20240716T062532Z
LAST-MODIFIED:20240716T062535Z
UID:10000434-1789405200-1789412400@www.kofc3774.org
SUMMARY:Brenda's Home Cooking
DESCRIPTION:Every Monday Brenda Price makes home cooked meals along with a dessert with prices ranging from $8 to $12. It is first come\, first serve and she usually sells out.
URL:https://www.kofc3774.org/event/brendas-home-cooking-3/2026-09-14/
LOCATION:Member Lounge\, 17113 Champaign\, Allen Park\, MI\, 48101\, United States
END:VEVENT
BEGIN:VEVENT
DTSTART;TZID=UTC:20260915T190000
DTEND;TZID=UTC:20260915T213000
DTSTAMP:20260422T022338
CREATED:20240716T062727Z
LAST-MODIFIED:20240716T062731Z
UID:10000170-1789498800-1789507800@www.kofc3774.org
SUMMARY:Euchre Night
DESCRIPTION:Members of the Knights of Columbus come together to enjoy a game of Euchre\, fostering camaraderie and community within the organization. Participants engage in a fun and competitive atmosphere while strengthening their bonds and sharing lighthearted moments with fellow members.
URL:https://www.kofc3774.org/event/euchre-night/2026-09-15/
LOCATION:Father Saylor Council #3774 17113 Champaign Allen Park\, Michigan 48101 USA\, 17113 Champaign\, Allen Park\, MI\, 48101\, United States
ATTACH;FMTTYPE=image/png:https://www.kofc3774.org/wp-content/uploads/2023/10/Screenshot-2023-10-30-154442.png
END:VEVENT
BEGIN:VEVENT
DTSTART;TZID=UTC:20260921T170000
DTEND;TZID=UTC:20260921T190000
DTSTAMP:20260422T022338
CREATED:20240716T062532Z
LAST-MODIFIED:20240716T062535Z
UID:10000435-1790010000-1790017200@www.kofc3774.org
SUMMARY:Brenda's Home Cooking
DESCRIPTION:Every Monday Brenda Price makes home cooked meals along with a dessert with prices ranging from $8 to $12. It is first come\, first serve and she usually sells out.
URL:https://www.kofc3774.org/event/brendas-home-cooking-3/2026-09-21/
LOCATION:Member Lounge\, 17113 Champaign\, Allen Park\, MI\, 48101\, United States
END:VEVENT
BEGIN:VEVENT
DTSTART;TZID=UTC:20260922T190000
DTEND;TZID=UTC:20260922T213000
DTSTAMP:20260422T022338
CREATED:20240716T062727Z
LAST-MODIFIED:20240716T062731Z
UID:10000171-1790103600-1790112600@www.kofc3774.org
SUMMARY:Euchre Night
DESCRIPTION:Members of the Knights of Columbus come together to enjoy a game of Euchre\, fostering camaraderie and community within the organization. Participants engage in a fun and competitive atmosphere while strengthening their bonds and sharing lighthearted moments with fellow members.
URL:https://www.kofc3774.org/event/euchre-night/2026-09-22/
LOCATION:Father Saylor Council #3774 17113 Champaign Allen Park\, Michigan 48101 USA\, 17113 Champaign\, Allen Park\, MI\, 48101\, United States
ATTACH;FMTTYPE=image/png:https://www.kofc3774.org/wp-content/uploads/2023/10/Screenshot-2023-10-30-154442.png
END:VEVENT
BEGIN:VEVENT
DTSTART;TZID=UTC:20260928T170000
DTEND;TZID=UTC:20260928T190000
DTSTAMP:20260422T022338
CREATED:20240716T062532Z
LAST-MODIFIED:20240716T062535Z
UID:10000436-1790614800-1790622000@www.kofc3774.org
SUMMARY:Brenda's Home Cooking
DESCRIPTION:Every Monday Brenda Price makes home cooked meals along with a dessert with prices ranging from $8 to $12. It is first come\, first serve and she usually sells out.
URL:https://www.kofc3774.org/event/brendas-home-cooking-3/2026-09-28/
LOCATION:Member Lounge\, 17113 Champaign\, Allen Park\, MI\, 48101\, United States
END:VEVENT
BEGIN:VEVENT
DTSTART;TZID=UTC:20260929T190000
DTEND;TZID=UTC:20260929T213000
DTSTAMP:20260422T022338
CREATED:20240716T062727Z
LAST-MODIFIED:20240716T062731Z
UID:10000172-1790708400-1790717400@www.kofc3774.org
SUMMARY:Euchre Night
DESCRIPTION:Members of the Knights of Columbus come together to enjoy a game of Euchre\, fostering camaraderie and community within the organization. Participants engage in a fun and competitive atmosphere while strengthening their bonds and sharing lighthearted moments with fellow members.
URL:https://www.kofc3774.org/event/euchre-night/2026-09-29/
LOCATION:Father Saylor Council #3774 17113 Champaign Allen Park\, Michigan 48101 USA\, 17113 Champaign\, Allen Park\, MI\, 48101\, United States
ATTACH;FMTTYPE=image/png:https://www.kofc3774.org/wp-content/uploads/2023/10/Screenshot-2023-10-30-154442.png
END:VEVENT
END:VCALENDAR