BEGIN:VCALENDAR
VERSION:2.0
PRODID:-//Knights of Columbus Council 3774 - ECPv6.15.20//NONSGML v1.0//EN
CALSCALE:GREGORIAN
METHOD:PUBLISH
X-WR-CALNAME:Knights of Columbus Council 3774
X-ORIGINAL-URL:https://www.kofc3774.org
X-WR-CALDESC:Events for Knights of Columbus Council 3774
REFRESH-INTERVAL;VALUE=DURATION:PT1H
X-Robots-Tag:noindex
X-PUBLISHED-TTL:PT1H
BEGIN:VTIMEZONE
TZID:UTC
BEGIN:STANDARD
TZOFFSETFROM:+0000
TZOFFSETTO:+0000
TZNAME:UTC
DTSTART:20240101T000000
END:STANDARD
END:VTIMEZONE
BEGIN:VEVENT
DTSTART;TZID=UTC:20260126T170000
DTEND;TZID=UTC:20260126T190000
DTSTAMP:20260424T095246
CREATED:20240716T062532Z
LAST-MODIFIED:20240716T062535Z
UID:10000401-1769446800-1769454000@www.kofc3774.org
SUMMARY:Brenda's Home Cooking
DESCRIPTION:Every Monday Brenda Price makes home cooked meals along with a dessert with prices ranging from $8 to $12. It is first come\, first serve and she usually sells out.
URL:https://www.kofc3774.org/event/brendas-home-cooking-3/2026-01-26/
LOCATION:Member Lounge\, 17113 Champaign\, Allen Park\, MI\, 48101\, United States
END:VEVENT
BEGIN:VEVENT
DTSTART;TZID=UTC:20260119T170000
DTEND;TZID=UTC:20260119T190000
DTSTAMP:20260424T095246
CREATED:20240716T062532Z
LAST-MODIFIED:20240716T062535Z
UID:10000400-1768842000-1768849200@www.kofc3774.org
SUMMARY:Brenda's Home Cooking
DESCRIPTION:Every Monday Brenda Price makes home cooked meals along with a dessert with prices ranging from $8 to $12. It is first come\, first serve and she usually sells out.
URL:https://www.kofc3774.org/event/brendas-home-cooking-3/2026-01-19/
LOCATION:Member Lounge\, 17113 Champaign\, Allen Park\, MI\, 48101\, United States
END:VEVENT
BEGIN:VEVENT
DTSTART;TZID=UTC:20260112T170000
DTEND;TZID=UTC:20260112T190000
DTSTAMP:20260424T095246
CREATED:20240716T062532Z
LAST-MODIFIED:20240716T062535Z
UID:10000399-1768237200-1768244400@www.kofc3774.org
SUMMARY:Brenda's Home Cooking
DESCRIPTION:Every Monday Brenda Price makes home cooked meals along with a dessert with prices ranging from $8 to $12. It is first come\, first serve and she usually sells out.
URL:https://www.kofc3774.org/event/brendas-home-cooking-3/2026-01-12/
LOCATION:Member Lounge\, 17113 Champaign\, Allen Park\, MI\, 48101\, United States
END:VEVENT
BEGIN:VEVENT
DTSTART;TZID=UTC:20260105T170000
DTEND;TZID=UTC:20260105T190000
DTSTAMP:20260424T095246
CREATED:20240716T062532Z
LAST-MODIFIED:20240716T062535Z
UID:10000398-1767632400-1767639600@www.kofc3774.org
SUMMARY:Brenda's Home Cooking
DESCRIPTION:Every Monday Brenda Price makes home cooked meals along with a dessert with prices ranging from $8 to $12. It is first come\, first serve and she usually sells out.
URL:https://www.kofc3774.org/event/brendas-home-cooking-3/2026-01-05/
LOCATION:Member Lounge\, 17113 Champaign\, Allen Park\, MI\, 48101\, United States
END:VEVENT
BEGIN:VEVENT
DTSTART;TZID=UTC:20251229T170000
DTEND;TZID=UTC:20251229T190000
DTSTAMP:20260424T095246
CREATED:20240716T062532Z
LAST-MODIFIED:20240716T062535Z
UID:10000397-1767027600-1767034800@www.kofc3774.org
SUMMARY:Brenda's Home Cooking
DESCRIPTION:Every Monday Brenda Price makes home cooked meals along with a dessert with prices ranging from $8 to $12. It is first come\, first serve and she usually sells out.
URL:https://www.kofc3774.org/event/brendas-home-cooking-3/2025-12-29/
LOCATION:Member Lounge\, 17113 Champaign\, Allen Park\, MI\, 48101\, United States
END:VEVENT
BEGIN:VEVENT
DTSTART;TZID=UTC:20251222T170000
DTEND;TZID=UTC:20251222T190000
DTSTAMP:20260424T095246
CREATED:20240716T062532Z
LAST-MODIFIED:20240716T062535Z
UID:10000396-1766422800-1766430000@www.kofc3774.org
SUMMARY:Brenda's Home Cooking
DESCRIPTION:Every Monday Brenda Price makes home cooked meals along with a dessert with prices ranging from $8 to $12. It is first come\, first serve and she usually sells out.
URL:https://www.kofc3774.org/event/brendas-home-cooking-3/2025-12-22/
LOCATION:Member Lounge\, 17113 Champaign\, Allen Park\, MI\, 48101\, United States
END:VEVENT
BEGIN:VEVENT
DTSTART;TZID=UTC:20251215T170000
DTEND;TZID=UTC:20251215T190000
DTSTAMP:20260424T095246
CREATED:20240716T062532Z
LAST-MODIFIED:20240716T062535Z
UID:10000395-1765818000-1765825200@www.kofc3774.org
SUMMARY:Brenda's Home Cooking
DESCRIPTION:Every Monday Brenda Price makes home cooked meals along with a dessert with prices ranging from $8 to $12. It is first come\, first serve and she usually sells out.
URL:https://www.kofc3774.org/event/brendas-home-cooking-3/2025-12-15/
LOCATION:Member Lounge\, 17113 Champaign\, Allen Park\, MI\, 48101\, United States
END:VEVENT
BEGIN:VEVENT
DTSTART;TZID=UTC:20251208T170000
DTEND;TZID=UTC:20251208T190000
DTSTAMP:20260424T095246
CREATED:20240716T062532Z
LAST-MODIFIED:20240716T062535Z
UID:10000394-1765213200-1765220400@www.kofc3774.org
SUMMARY:Brenda's Home Cooking
DESCRIPTION:Every Monday Brenda Price makes home cooked meals along with a dessert with prices ranging from $8 to $12. It is first come\, first serve and she usually sells out.
URL:https://www.kofc3774.org/event/brendas-home-cooking-3/2025-12-08/
LOCATION:Member Lounge\, 17113 Champaign\, Allen Park\, MI\, 48101\, United States
END:VEVENT
BEGIN:VEVENT
DTSTART;TZID=UTC:20251201T170000
DTEND;TZID=UTC:20251201T190000
DTSTAMP:20260424T095246
CREATED:20240716T062532Z
LAST-MODIFIED:20240716T062535Z
UID:10000393-1764608400-1764615600@www.kofc3774.org
SUMMARY:Brenda's Home Cooking
DESCRIPTION:Every Monday Brenda Price makes home cooked meals along with a dessert with prices ranging from $8 to $12. It is first come\, first serve and she usually sells out.
URL:https://www.kofc3774.org/event/brendas-home-cooking-3/2025-12-01/
LOCATION:Member Lounge\, 17113 Champaign\, Allen Park\, MI\, 48101\, United States
END:VEVENT
BEGIN:VEVENT
DTSTART;TZID=UTC:20251124T170000
DTEND;TZID=UTC:20251124T190000
DTSTAMP:20260424T095246
CREATED:20240716T062532Z
LAST-MODIFIED:20240716T062535Z
UID:10000392-1764003600-1764010800@www.kofc3774.org
SUMMARY:Brenda's Home Cooking
DESCRIPTION:Every Monday Brenda Price makes home cooked meals along with a dessert with prices ranging from $8 to $12. It is first come\, first serve and she usually sells out.
URL:https://www.kofc3774.org/event/brendas-home-cooking-3/2025-11-24/
LOCATION:Member Lounge\, 17113 Champaign\, Allen Park\, MI\, 48101\, United States
END:VEVENT
BEGIN:VEVENT
DTSTART;TZID=UTC:20251117T170000
DTEND;TZID=UTC:20251117T190000
DTSTAMP:20260424T095246
CREATED:20240716T062532Z
LAST-MODIFIED:20240716T062535Z
UID:10000391-1763398800-1763406000@www.kofc3774.org
SUMMARY:Brenda's Home Cooking
DESCRIPTION:Every Monday Brenda Price makes home cooked meals along with a dessert with prices ranging from $8 to $12. It is first come\, first serve and she usually sells out.
URL:https://www.kofc3774.org/event/brendas-home-cooking-3/2025-11-17/
LOCATION:Member Lounge\, 17113 Champaign\, Allen Park\, MI\, 48101\, United States
END:VEVENT
BEGIN:VEVENT
DTSTART;TZID=UTC:20251110T170000
DTEND;TZID=UTC:20251110T190000
DTSTAMP:20260424T095246
CREATED:20240716T062532Z
LAST-MODIFIED:20240716T062535Z
UID:10000390-1762794000-1762801200@www.kofc3774.org
SUMMARY:Brenda's Home Cooking
DESCRIPTION:Every Monday Brenda Price makes home cooked meals along with a dessert with prices ranging from $8 to $12. It is first come\, first serve and she usually sells out.
URL:https://www.kofc3774.org/event/brendas-home-cooking-3/2025-11-10/
LOCATION:Member Lounge\, 17113 Champaign\, Allen Park\, MI\, 48101\, United States
END:VEVENT
BEGIN:VEVENT
DTSTART;TZID=UTC:20251103T170000
DTEND;TZID=UTC:20251103T190000
DTSTAMP:20260424T095246
CREATED:20240716T062532Z
LAST-MODIFIED:20240716T062535Z
UID:10000389-1762189200-1762196400@www.kofc3774.org
SUMMARY:Brenda's Home Cooking
DESCRIPTION:Every Monday Brenda Price makes home cooked meals along with a dessert with prices ranging from $8 to $12. It is first come\, first serve and she usually sells out.
URL:https://www.kofc3774.org/event/brendas-home-cooking-3/2025-11-03/
LOCATION:Member Lounge\, 17113 Champaign\, Allen Park\, MI\, 48101\, United States
END:VEVENT
BEGIN:VEVENT
DTSTART;TZID=UTC:20251027T170000
DTEND;TZID=UTC:20251027T190000
DTSTAMP:20260424T095246
CREATED:20240716T062532Z
LAST-MODIFIED:20240716T062535Z
UID:10000388-1761584400-1761591600@www.kofc3774.org
SUMMARY:Brenda's Home Cooking
DESCRIPTION:Every Monday Brenda Price makes home cooked meals along with a dessert with prices ranging from $8 to $12. It is first come\, first serve and she usually sells out.
URL:https://www.kofc3774.org/event/brendas-home-cooking-3/2025-10-27/
LOCATION:Member Lounge\, 17113 Champaign\, Allen Park\, MI\, 48101\, United States
END:VEVENT
BEGIN:VEVENT
DTSTART;TZID=UTC:20251020T170000
DTEND;TZID=UTC:20251020T190000
DTSTAMP:20260424T095246
CREATED:20240716T062532Z
LAST-MODIFIED:20240716T062535Z
UID:10000387-1760979600-1760986800@www.kofc3774.org
SUMMARY:Brenda's Home Cooking
DESCRIPTION:Every Monday Brenda Price makes home cooked meals along with a dessert with prices ranging from $8 to $12. It is first come\, first serve and she usually sells out.
URL:https://www.kofc3774.org/event/brendas-home-cooking-3/2025-10-20/
LOCATION:Member Lounge\, 17113 Champaign\, Allen Park\, MI\, 48101\, United States
END:VEVENT
BEGIN:VEVENT
DTSTART;TZID=UTC:20251013T170000
DTEND;TZID=UTC:20251013T190000
DTSTAMP:20260424T095246
CREATED:20240716T062532Z
LAST-MODIFIED:20240716T062535Z
UID:10000386-1760374800-1760382000@www.kofc3774.org
SUMMARY:Brenda's Home Cooking
DESCRIPTION:Every Monday Brenda Price makes home cooked meals along with a dessert with prices ranging from $8 to $12. It is first come\, first serve and she usually sells out.
URL:https://www.kofc3774.org/event/brendas-home-cooking-3/2025-10-13/
LOCATION:Member Lounge\, 17113 Champaign\, Allen Park\, MI\, 48101\, United States
END:VEVENT
BEGIN:VEVENT
DTSTART;TZID=UTC:20251006T170000
DTEND;TZID=UTC:20251006T190000
DTSTAMP:20260424T095246
CREATED:20240716T062532Z
LAST-MODIFIED:20240716T062535Z
UID:10000385-1759770000-1759777200@www.kofc3774.org
SUMMARY:Brenda's Home Cooking
DESCRIPTION:Every Monday Brenda Price makes home cooked meals along with a dessert with prices ranging from $8 to $12. It is first come\, first serve and she usually sells out.
URL:https://www.kofc3774.org/event/brendas-home-cooking-3/2025-10-06/
LOCATION:Member Lounge\, 17113 Champaign\, Allen Park\, MI\, 48101\, United States
END:VEVENT
BEGIN:VEVENT
DTSTART;TZID=UTC:20250929T170000
DTEND;TZID=UTC:20250929T190000
DTSTAMP:20260424T095246
CREATED:20240716T062532Z
LAST-MODIFIED:20240716T062535Z
UID:10000384-1759165200-1759172400@www.kofc3774.org
SUMMARY:Brenda's Home Cooking
DESCRIPTION:Every Monday Brenda Price makes home cooked meals along with a dessert with prices ranging from $8 to $12. It is first come\, first serve and she usually sells out.
URL:https://www.kofc3774.org/event/brendas-home-cooking-3/2025-09-29/
LOCATION:Member Lounge\, 17113 Champaign\, Allen Park\, MI\, 48101\, United States
END:VEVENT
BEGIN:VEVENT
DTSTART;TZID=UTC:20250922T170000
DTEND;TZID=UTC:20250922T190000
DTSTAMP:20260424T095246
CREATED:20240716T062532Z
LAST-MODIFIED:20240716T062535Z
UID:10000383-1758560400-1758567600@www.kofc3774.org
SUMMARY:Brenda's Home Cooking
DESCRIPTION:Every Monday Brenda Price makes home cooked meals along with a dessert with prices ranging from $8 to $12. It is first come\, first serve and she usually sells out.
URL:https://www.kofc3774.org/event/brendas-home-cooking-3/2025-09-22/
LOCATION:Member Lounge\, 17113 Champaign\, Allen Park\, MI\, 48101\, United States
END:VEVENT
BEGIN:VEVENT
DTSTART;TZID=UTC:20250915T170000
DTEND;TZID=UTC:20250915T190000
DTSTAMP:20260424T095246
CREATED:20240716T062532Z
LAST-MODIFIED:20240716T062535Z
UID:10000382-1757955600-1757962800@www.kofc3774.org
SUMMARY:Brenda's Home Cooking
DESCRIPTION:Every Monday Brenda Price makes home cooked meals along with a dessert with prices ranging from $8 to $12. It is first come\, first serve and she usually sells out.
URL:https://www.kofc3774.org/event/brendas-home-cooking-3/2025-09-15/
LOCATION:Member Lounge\, 17113 Champaign\, Allen Park\, MI\, 48101\, United States
END:VEVENT
BEGIN:VEVENT
DTSTART;TZID=UTC:20250908T170000
DTEND;TZID=UTC:20250908T190000
DTSTAMP:20260424T095246
CREATED:20240716T062532Z
LAST-MODIFIED:20240716T062535Z
UID:10000381-1757350800-1757358000@www.kofc3774.org
SUMMARY:Brenda's Home Cooking
DESCRIPTION:Every Monday Brenda Price makes home cooked meals along with a dessert with prices ranging from $8 to $12. It is first come\, first serve and she usually sells out.
URL:https://www.kofc3774.org/event/brendas-home-cooking-3/2025-09-08/
LOCATION:Member Lounge\, 17113 Champaign\, Allen Park\, MI\, 48101\, United States
END:VEVENT
BEGIN:VEVENT
DTSTART;TZID=UTC:20250901T170000
DTEND;TZID=UTC:20250901T190000
DTSTAMP:20260424T095246
CREATED:20240716T062532Z
LAST-MODIFIED:20240716T062535Z
UID:10000380-1756746000-1756753200@www.kofc3774.org
SUMMARY:Brenda's Home Cooking
DESCRIPTION:Every Monday Brenda Price makes home cooked meals along with a dessert with prices ranging from $8 to $12. It is first come\, first serve and she usually sells out.
URL:https://www.kofc3774.org/event/brendas-home-cooking-3/2025-09-01/
LOCATION:Member Lounge\, 17113 Champaign\, Allen Park\, MI\, 48101\, United States
END:VEVENT
BEGIN:VEVENT
DTSTART;TZID=UTC:20250825T170000
DTEND;TZID=UTC:20250825T190000
DTSTAMP:20260424T095246
CREATED:20240716T062532Z
LAST-MODIFIED:20240716T062535Z
UID:10000379-1756141200-1756148400@www.kofc3774.org
SUMMARY:Brenda's Home Cooking
DESCRIPTION:Every Monday Brenda Price makes home cooked meals along with a dessert with prices ranging from $8 to $12. It is first come\, first serve and she usually sells out.
URL:https://www.kofc3774.org/event/brendas-home-cooking-3/2025-08-25/
LOCATION:Member Lounge\, 17113 Champaign\, Allen Park\, MI\, 48101\, United States
END:VEVENT
BEGIN:VEVENT
DTSTART;TZID=UTC:20250818T170000
DTEND;TZID=UTC:20250818T190000
DTSTAMP:20260424T095246
CREATED:20240716T062532Z
LAST-MODIFIED:20240716T062535Z
UID:10000378-1755536400-1755543600@www.kofc3774.org
SUMMARY:Brenda's Home Cooking
DESCRIPTION:Every Monday Brenda Price makes home cooked meals along with a dessert with prices ranging from $8 to $12. It is first come\, first serve and she usually sells out.
URL:https://www.kofc3774.org/event/brendas-home-cooking-3/2025-08-18/
LOCATION:Member Lounge\, 17113 Champaign\, Allen Park\, MI\, 48101\, United States
END:VEVENT
BEGIN:VEVENT
DTSTART;TZID=UTC:20250811T170000
DTEND;TZID=UTC:20250811T190000
DTSTAMP:20260424T095246
CREATED:20240716T062532Z
LAST-MODIFIED:20240716T062535Z
UID:10000377-1754931600-1754938800@www.kofc3774.org
SUMMARY:Brenda's Home Cooking
DESCRIPTION:Every Monday Brenda Price makes home cooked meals along with a dessert with prices ranging from $8 to $12. It is first come\, first serve and she usually sells out.
URL:https://www.kofc3774.org/event/brendas-home-cooking-3/2025-08-11/
LOCATION:Member Lounge\, 17113 Champaign\, Allen Park\, MI\, 48101\, United States
END:VEVENT
BEGIN:VEVENT
DTSTART;TZID=UTC:20250804T170000
DTEND;TZID=UTC:20250804T190000
DTSTAMP:20260424T095246
CREATED:20240716T062532Z
LAST-MODIFIED:20240716T062535Z
UID:10000376-1754326800-1754334000@www.kofc3774.org
SUMMARY:Brenda's Home Cooking
DESCRIPTION:Every Monday Brenda Price makes home cooked meals along with a dessert with prices ranging from $8 to $12. It is first come\, first serve and she usually sells out.
URL:https://www.kofc3774.org/event/brendas-home-cooking-3/2025-08-04/
LOCATION:Member Lounge\, 17113 Champaign\, Allen Park\, MI\, 48101\, United States
END:VEVENT
BEGIN:VEVENT
DTSTART;TZID=UTC:20250728T170000
DTEND;TZID=UTC:20250728T190000
DTSTAMP:20260424T095246
CREATED:20240716T062532Z
LAST-MODIFIED:20240716T062535Z
UID:10000375-1753722000-1753729200@www.kofc3774.org
SUMMARY:Brenda's Home Cooking
DESCRIPTION:Every Monday Brenda Price makes home cooked meals along with a dessert with prices ranging from $8 to $12. It is first come\, first serve and she usually sells out.
URL:https://www.kofc3774.org/event/brendas-home-cooking-3/2025-07-28/
LOCATION:Member Lounge\, 17113 Champaign\, Allen Park\, MI\, 48101\, United States
END:VEVENT
BEGIN:VEVENT
DTSTART;TZID=UTC:20250721T170000
DTEND;TZID=UTC:20250721T190000
DTSTAMP:20260424T095246
CREATED:20240716T062532Z
LAST-MODIFIED:20240716T062535Z
UID:10000374-1753117200-1753124400@www.kofc3774.org
SUMMARY:Brenda's Home Cooking
DESCRIPTION:Every Monday Brenda Price makes home cooked meals along with a dessert with prices ranging from $8 to $12. It is first come\, first serve and she usually sells out.
URL:https://www.kofc3774.org/event/brendas-home-cooking-3/2025-07-21/
LOCATION:Member Lounge\, 17113 Champaign\, Allen Park\, MI\, 48101\, United States
END:VEVENT
BEGIN:VEVENT
DTSTART;TZID=UTC:20250714T170000
DTEND;TZID=UTC:20250714T190000
DTSTAMP:20260424T095246
CREATED:20240716T062532Z
LAST-MODIFIED:20240716T062535Z
UID:10000373-1752512400-1752519600@www.kofc3774.org
SUMMARY:Brenda's Home Cooking
DESCRIPTION:Every Monday Brenda Price makes home cooked meals along with a dessert with prices ranging from $8 to $12. It is first come\, first serve and she usually sells out.
URL:https://www.kofc3774.org/event/brendas-home-cooking-3/2025-07-14/
LOCATION:Member Lounge\, 17113 Champaign\, Allen Park\, MI\, 48101\, United States
END:VEVENT
BEGIN:VEVENT
DTSTART;TZID=UTC:20250707T170000
DTEND;TZID=UTC:20250707T190000
DTSTAMP:20260424T095246
CREATED:20240716T062532Z
LAST-MODIFIED:20240716T062535Z
UID:10000372-1751907600-1751914800@www.kofc3774.org
SUMMARY:Brenda's Home Cooking
DESCRIPTION:Every Monday Brenda Price makes home cooked meals along with a dessert with prices ranging from $8 to $12. It is first come\, first serve and she usually sells out.
URL:https://www.kofc3774.org/event/brendas-home-cooking-3/2025-07-07/
LOCATION:Member Lounge\, 17113 Champaign\, Allen Park\, MI\, 48101\, United States
END:VEVENT
END:VCALENDAR