BEGIN:VCALENDAR
VERSION:2.0
PRODID:-//Knights of Columbus Council 3774 - ECPv6.15.20//NONSGML v1.0//EN
CALSCALE:GREGORIAN
METHOD:PUBLISH
X-WR-CALNAME:Knights of Columbus Council 3774
X-ORIGINAL-URL:https://www.kofc3774.org
X-WR-CALDESC:Events for Knights of Columbus Council 3774
REFRESH-INTERVAL;VALUE=DURATION:PT1H
X-Robots-Tag:noindex
X-PUBLISHED-TTL:PT1H
BEGIN:VTIMEZONE
TZID:UTC
BEGIN:STANDARD
TZOFFSETFROM:+0000
TZOFFSETTO:+0000
TZNAME:UTC
DTSTART:20250101T000000
END:STANDARD
END:VTIMEZONE
BEGIN:VEVENT
DTSTART;TZID=UTC:20261012T170000
DTEND;TZID=UTC:20261012T190000
DTSTAMP:20260424T092941
CREATED:20240716T062532Z
LAST-MODIFIED:20240716T062535Z
UID:10000438-1791824400-1791831600@www.kofc3774.org
SUMMARY:Brenda's Home Cooking
DESCRIPTION:Every Monday Brenda Price makes home cooked meals along with a dessert with prices ranging from $8 to $12. It is first come\, first serve and she usually sells out.
URL:https://www.kofc3774.org/event/brendas-home-cooking-3/2026-10-12/
LOCATION:Member Lounge\, 17113 Champaign\, Allen Park\, MI\, 48101\, United States
END:VEVENT
BEGIN:VEVENT
DTSTART;TZID=UTC:20261019T170000
DTEND;TZID=UTC:20261019T190000
DTSTAMP:20260424T092941
CREATED:20240716T062532Z
LAST-MODIFIED:20240716T062535Z
UID:10000439-1792429200-1792436400@www.kofc3774.org
SUMMARY:Brenda's Home Cooking
DESCRIPTION:Every Monday Brenda Price makes home cooked meals along with a dessert with prices ranging from $8 to $12. It is first come\, first serve and she usually sells out.
URL:https://www.kofc3774.org/event/brendas-home-cooking-3/2026-10-19/
LOCATION:Member Lounge\, 17113 Champaign\, Allen Park\, MI\, 48101\, United States
END:VEVENT
BEGIN:VEVENT
DTSTART;TZID=UTC:20261026T170000
DTEND;TZID=UTC:20261026T190000
DTSTAMP:20260424T092941
CREATED:20240716T062532Z
LAST-MODIFIED:20240716T062535Z
UID:10000440-1793034000-1793041200@www.kofc3774.org
SUMMARY:Brenda's Home Cooking
DESCRIPTION:Every Monday Brenda Price makes home cooked meals along with a dessert with prices ranging from $8 to $12. It is first come\, first serve and she usually sells out.
URL:https://www.kofc3774.org/event/brendas-home-cooking-3/2026-10-26/
LOCATION:Member Lounge\, 17113 Champaign\, Allen Park\, MI\, 48101\, United States
END:VEVENT
BEGIN:VEVENT
DTSTART;TZID=UTC:20261102T170000
DTEND;TZID=UTC:20261102T190000
DTSTAMP:20260424T092941
CREATED:20240716T062532Z
LAST-MODIFIED:20240716T062535Z
UID:10000441-1793638800-1793646000@www.kofc3774.org
SUMMARY:Brenda's Home Cooking
DESCRIPTION:Every Monday Brenda Price makes home cooked meals along with a dessert with prices ranging from $8 to $12. It is first come\, first serve and she usually sells out.
URL:https://www.kofc3774.org/event/brendas-home-cooking-3/2026-11-02/
LOCATION:Member Lounge\, 17113 Champaign\, Allen Park\, MI\, 48101\, United States
END:VEVENT
BEGIN:VEVENT
DTSTART;TZID=UTC:20261109T170000
DTEND;TZID=UTC:20261109T190000
DTSTAMP:20260424T092941
CREATED:20240716T062532Z
LAST-MODIFIED:20240716T062535Z
UID:10000442-1794243600-1794250800@www.kofc3774.org
SUMMARY:Brenda's Home Cooking
DESCRIPTION:Every Monday Brenda Price makes home cooked meals along with a dessert with prices ranging from $8 to $12. It is first come\, first serve and she usually sells out.
URL:https://www.kofc3774.org/event/brendas-home-cooking-3/2026-11-09/
LOCATION:Member Lounge\, 17113 Champaign\, Allen Park\, MI\, 48101\, United States
END:VEVENT
BEGIN:VEVENT
DTSTART;TZID=UTC:20261116T170000
DTEND;TZID=UTC:20261116T190000
DTSTAMP:20260424T092941
CREATED:20240716T062532Z
LAST-MODIFIED:20240716T062535Z
UID:10000443-1794848400-1794855600@www.kofc3774.org
SUMMARY:Brenda's Home Cooking
DESCRIPTION:Every Monday Brenda Price makes home cooked meals along with a dessert with prices ranging from $8 to $12. It is first come\, first serve and she usually sells out.
URL:https://www.kofc3774.org/event/brendas-home-cooking-3/2026-11-16/
LOCATION:Member Lounge\, 17113 Champaign\, Allen Park\, MI\, 48101\, United States
END:VEVENT
BEGIN:VEVENT
DTSTART;TZID=UTC:20261123T170000
DTEND;TZID=UTC:20261123T190000
DTSTAMP:20260424T092941
CREATED:20240716T062532Z
LAST-MODIFIED:20240716T062535Z
UID:10000444-1795453200-1795460400@www.kofc3774.org
SUMMARY:Brenda's Home Cooking
DESCRIPTION:Every Monday Brenda Price makes home cooked meals along with a dessert with prices ranging from $8 to $12. It is first come\, first serve and she usually sells out.
URL:https://www.kofc3774.org/event/brendas-home-cooking-3/2026-11-23/
LOCATION:Member Lounge\, 17113 Champaign\, Allen Park\, MI\, 48101\, United States
END:VEVENT
BEGIN:VEVENT
DTSTART;TZID=UTC:20261130T170000
DTEND;TZID=UTC:20261130T190000
DTSTAMP:20260424T092941
CREATED:20240716T062532Z
LAST-MODIFIED:20240716T062535Z
UID:10000445-1796058000-1796065200@www.kofc3774.org
SUMMARY:Brenda's Home Cooking
DESCRIPTION:Every Monday Brenda Price makes home cooked meals along with a dessert with prices ranging from $8 to $12. It is first come\, first serve and she usually sells out.
URL:https://www.kofc3774.org/event/brendas-home-cooking-3/2026-11-30/
LOCATION:Member Lounge\, 17113 Champaign\, Allen Park\, MI\, 48101\, United States
END:VEVENT
BEGIN:VEVENT
DTSTART;TZID=UTC:20261207T170000
DTEND;TZID=UTC:20261207T190000
DTSTAMP:20260424T092941
CREATED:20240716T062532Z
LAST-MODIFIED:20240716T062535Z
UID:10000446-1796662800-1796670000@www.kofc3774.org
SUMMARY:Brenda's Home Cooking
DESCRIPTION:Every Monday Brenda Price makes home cooked meals along with a dessert with prices ranging from $8 to $12. It is first come\, first serve and she usually sells out.
URL:https://www.kofc3774.org/event/brendas-home-cooking-3/2026-12-07/
LOCATION:Member Lounge\, 17113 Champaign\, Allen Park\, MI\, 48101\, United States
END:VEVENT
BEGIN:VEVENT
DTSTART;TZID=UTC:20261214T170000
DTEND;TZID=UTC:20261214T190000
DTSTAMP:20260424T092941
CREATED:20240716T062532Z
LAST-MODIFIED:20240716T062535Z
UID:10000447-1797267600-1797274800@www.kofc3774.org
SUMMARY:Brenda's Home Cooking
DESCRIPTION:Every Monday Brenda Price makes home cooked meals along with a dessert with prices ranging from $8 to $12. It is first come\, first serve and she usually sells out.
URL:https://www.kofc3774.org/event/brendas-home-cooking-3/2026-12-14/
LOCATION:Member Lounge\, 17113 Champaign\, Allen Park\, MI\, 48101\, United States
END:VEVENT
BEGIN:VEVENT
DTSTART;TZID=UTC:20261221T170000
DTEND;TZID=UTC:20261221T190000
DTSTAMP:20260424T092941
CREATED:20240716T062532Z
LAST-MODIFIED:20240716T062535Z
UID:10000448-1797872400-1797879600@www.kofc3774.org
SUMMARY:Brenda's Home Cooking
DESCRIPTION:Every Monday Brenda Price makes home cooked meals along with a dessert with prices ranging from $8 to $12. It is first come\, first serve and she usually sells out.
URL:https://www.kofc3774.org/event/brendas-home-cooking-3/2026-12-21/
LOCATION:Member Lounge\, 17113 Champaign\, Allen Park\, MI\, 48101\, United States
END:VEVENT
BEGIN:VEVENT
DTSTART;TZID=UTC:20261228T170000
DTEND;TZID=UTC:20261228T190000
DTSTAMP:20260424T092941
CREATED:20240716T062532Z
LAST-MODIFIED:20240716T062535Z
UID:10000449-1798477200-1798484400@www.kofc3774.org
SUMMARY:Brenda's Home Cooking
DESCRIPTION:Every Monday Brenda Price makes home cooked meals along with a dessert with prices ranging from $8 to $12. It is first come\, first serve and she usually sells out.
URL:https://www.kofc3774.org/event/brendas-home-cooking-3/2026-12-28/
LOCATION:Member Lounge\, 17113 Champaign\, Allen Park\, MI\, 48101\, United States
END:VEVENT
BEGIN:VEVENT
DTSTART;TZID=UTC:20270104T170000
DTEND;TZID=UTC:20270104T190000
DTSTAMP:20260424T092941
CREATED:20240716T062532Z
LAST-MODIFIED:20240716T062535Z
UID:10000450-1799082000-1799089200@www.kofc3774.org
SUMMARY:Brenda's Home Cooking
DESCRIPTION:Every Monday Brenda Price makes home cooked meals along with a dessert with prices ranging from $8 to $12. It is first come\, first serve and she usually sells out.
URL:https://www.kofc3774.org/event/brendas-home-cooking-3/2027-01-04/
LOCATION:Member Lounge\, 17113 Champaign\, Allen Park\, MI\, 48101\, United States
END:VEVENT
BEGIN:VEVENT
DTSTART;TZID=UTC:20270111T170000
DTEND;TZID=UTC:20270111T190000
DTSTAMP:20260424T092941
CREATED:20240716T062532Z
LAST-MODIFIED:20240716T062535Z
UID:10000451-1799686800-1799694000@www.kofc3774.org
SUMMARY:Brenda's Home Cooking
DESCRIPTION:Every Monday Brenda Price makes home cooked meals along with a dessert with prices ranging from $8 to $12. It is first come\, first serve and she usually sells out.
URL:https://www.kofc3774.org/event/brendas-home-cooking-3/2027-01-11/
LOCATION:Member Lounge\, 17113 Champaign\, Allen Park\, MI\, 48101\, United States
END:VEVENT
BEGIN:VEVENT
DTSTART;TZID=UTC:20270118T170000
DTEND;TZID=UTC:20270118T190000
DTSTAMP:20260424T092941
CREATED:20240716T062532Z
LAST-MODIFIED:20240716T062535Z
UID:10000452-1800291600-1800298800@www.kofc3774.org
SUMMARY:Brenda's Home Cooking
DESCRIPTION:Every Monday Brenda Price makes home cooked meals along with a dessert with prices ranging from $8 to $12. It is first come\, first serve and she usually sells out.
URL:https://www.kofc3774.org/event/brendas-home-cooking-3/2027-01-18/
LOCATION:Member Lounge\, 17113 Champaign\, Allen Park\, MI\, 48101\, United States
END:VEVENT
BEGIN:VEVENT
DTSTART;TZID=UTC:20270125T170000
DTEND;TZID=UTC:20270125T190000
DTSTAMP:20260424T092941
CREATED:20240716T062532Z
LAST-MODIFIED:20240716T062535Z
UID:10000453-1800896400-1800903600@www.kofc3774.org
SUMMARY:Brenda's Home Cooking
DESCRIPTION:Every Monday Brenda Price makes home cooked meals along with a dessert with prices ranging from $8 to $12. It is first come\, first serve and she usually sells out.
URL:https://www.kofc3774.org/event/brendas-home-cooking-3/2027-01-25/
LOCATION:Member Lounge\, 17113 Champaign\, Allen Park\, MI\, 48101\, United States
END:VEVENT
BEGIN:VEVENT
DTSTART;TZID=UTC:20270201T170000
DTEND;TZID=UTC:20270201T190000
DTSTAMP:20260424T092941
CREATED:20240716T062532Z
LAST-MODIFIED:20240716T062535Z
UID:10000454-1801501200-1801508400@www.kofc3774.org
SUMMARY:Brenda's Home Cooking
DESCRIPTION:Every Monday Brenda Price makes home cooked meals along with a dessert with prices ranging from $8 to $12. It is first come\, first serve and she usually sells out.
URL:https://www.kofc3774.org/event/brendas-home-cooking-3/2027-02-01/
LOCATION:Member Lounge\, 17113 Champaign\, Allen Park\, MI\, 48101\, United States
END:VEVENT
BEGIN:VEVENT
DTSTART;TZID=UTC:20270208T170000
DTEND;TZID=UTC:20270208T190000
DTSTAMP:20260424T092941
CREATED:20240716T062532Z
LAST-MODIFIED:20240716T062535Z
UID:10000455-1802106000-1802113200@www.kofc3774.org
SUMMARY:Brenda's Home Cooking
DESCRIPTION:Every Monday Brenda Price makes home cooked meals along with a dessert with prices ranging from $8 to $12. It is first come\, first serve and she usually sells out.
URL:https://www.kofc3774.org/event/brendas-home-cooking-3/2027-02-08/
LOCATION:Member Lounge\, 17113 Champaign\, Allen Park\, MI\, 48101\, United States
END:VEVENT
BEGIN:VEVENT
DTSTART;TZID=UTC:20270215T170000
DTEND;TZID=UTC:20270215T190000
DTSTAMP:20260424T092941
CREATED:20240716T062532Z
LAST-MODIFIED:20240716T062535Z
UID:10000456-1802710800-1802718000@www.kofc3774.org
SUMMARY:Brenda's Home Cooking
DESCRIPTION:Every Monday Brenda Price makes home cooked meals along with a dessert with prices ranging from $8 to $12. It is first come\, first serve and she usually sells out.
URL:https://www.kofc3774.org/event/brendas-home-cooking-3/2027-02-15/
LOCATION:Member Lounge\, 17113 Champaign\, Allen Park\, MI\, 48101\, United States
END:VEVENT
BEGIN:VEVENT
DTSTART;TZID=UTC:20270222T170000
DTEND;TZID=UTC:20270222T190000
DTSTAMP:20260424T092941
CREATED:20240716T062532Z
LAST-MODIFIED:20240716T062535Z
UID:10000457-1803315600-1803322800@www.kofc3774.org
SUMMARY:Brenda's Home Cooking
DESCRIPTION:Every Monday Brenda Price makes home cooked meals along with a dessert with prices ranging from $8 to $12. It is first come\, first serve and she usually sells out.
URL:https://www.kofc3774.org/event/brendas-home-cooking-3/2027-02-22/
LOCATION:Member Lounge\, 17113 Champaign\, Allen Park\, MI\, 48101\, United States
END:VEVENT
BEGIN:VEVENT
DTSTART;TZID=UTC:20270301T170000
DTEND;TZID=UTC:20270301T190000
DTSTAMP:20260424T092941
CREATED:20240716T062532Z
LAST-MODIFIED:20240716T062535Z
UID:10000458-1803920400-1803927600@www.kofc3774.org
SUMMARY:Brenda's Home Cooking
DESCRIPTION:Every Monday Brenda Price makes home cooked meals along with a dessert with prices ranging from $8 to $12. It is first come\, first serve and she usually sells out.
URL:https://www.kofc3774.org/event/brendas-home-cooking-3/2027-03-01/
LOCATION:Member Lounge\, 17113 Champaign\, Allen Park\, MI\, 48101\, United States
END:VEVENT
BEGIN:VEVENT
DTSTART;TZID=UTC:20270308T170000
DTEND;TZID=UTC:20270308T190000
DTSTAMP:20260424T092941
CREATED:20240716T062532Z
LAST-MODIFIED:20240716T062535Z
UID:10000459-1804525200-1804532400@www.kofc3774.org
SUMMARY:Brenda's Home Cooking
DESCRIPTION:Every Monday Brenda Price makes home cooked meals along with a dessert with prices ranging from $8 to $12. It is first come\, first serve and she usually sells out.
URL:https://www.kofc3774.org/event/brendas-home-cooking-3/2027-03-08/
LOCATION:Member Lounge\, 17113 Champaign\, Allen Park\, MI\, 48101\, United States
END:VEVENT
BEGIN:VEVENT
DTSTART;TZID=UTC:20270315T170000
DTEND;TZID=UTC:20270315T190000
DTSTAMP:20260424T092941
CREATED:20240716T062532Z
LAST-MODIFIED:20240716T062535Z
UID:10000460-1805130000-1805137200@www.kofc3774.org
SUMMARY:Brenda's Home Cooking
DESCRIPTION:Every Monday Brenda Price makes home cooked meals along with a dessert with prices ranging from $8 to $12. It is first come\, first serve and she usually sells out.
URL:https://www.kofc3774.org/event/brendas-home-cooking-3/2027-03-15/
LOCATION:Member Lounge\, 17113 Champaign\, Allen Park\, MI\, 48101\, United States
END:VEVENT
BEGIN:VEVENT
DTSTART;TZID=UTC:20270322T170000
DTEND;TZID=UTC:20270322T190000
DTSTAMP:20260424T092941
CREATED:20240716T062532Z
LAST-MODIFIED:20240716T062535Z
UID:10000461-1805734800-1805742000@www.kofc3774.org
SUMMARY:Brenda's Home Cooking
DESCRIPTION:Every Monday Brenda Price makes home cooked meals along with a dessert with prices ranging from $8 to $12. It is first come\, first serve and she usually sells out.
URL:https://www.kofc3774.org/event/brendas-home-cooking-3/2027-03-22/
LOCATION:Member Lounge\, 17113 Champaign\, Allen Park\, MI\, 48101\, United States
END:VEVENT
BEGIN:VEVENT
DTSTART;TZID=UTC:20270329T170000
DTEND;TZID=UTC:20270329T190000
DTSTAMP:20260424T092941
CREATED:20240716T062532Z
LAST-MODIFIED:20240716T062535Z
UID:10000462-1806339600-1806346800@www.kofc3774.org
SUMMARY:Brenda's Home Cooking
DESCRIPTION:Every Monday Brenda Price makes home cooked meals along with a dessert with prices ranging from $8 to $12. It is first come\, first serve and she usually sells out.
URL:https://www.kofc3774.org/event/brendas-home-cooking-3/2027-03-29/
LOCATION:Member Lounge\, 17113 Champaign\, Allen Park\, MI\, 48101\, United States
END:VEVENT
BEGIN:VEVENT
DTSTART;TZID=UTC:20270405T170000
DTEND;TZID=UTC:20270405T190000
DTSTAMP:20260424T092941
CREATED:20240716T062532Z
LAST-MODIFIED:20240716T062535Z
UID:10000463-1806944400-1806951600@www.kofc3774.org
SUMMARY:Brenda's Home Cooking
DESCRIPTION:Every Monday Brenda Price makes home cooked meals along with a dessert with prices ranging from $8 to $12. It is first come\, first serve and she usually sells out.
URL:https://www.kofc3774.org/event/brendas-home-cooking-3/2027-04-05/
LOCATION:Member Lounge\, 17113 Champaign\, Allen Park\, MI\, 48101\, United States
END:VEVENT
BEGIN:VEVENT
DTSTART;TZID=UTC:20270412T170000
DTEND;TZID=UTC:20270412T190000
DTSTAMP:20260424T092941
CREATED:20240716T062532Z
LAST-MODIFIED:20240716T062535Z
UID:10000464-1807549200-1807556400@www.kofc3774.org
SUMMARY:Brenda's Home Cooking
DESCRIPTION:Every Monday Brenda Price makes home cooked meals along with a dessert with prices ranging from $8 to $12. It is first come\, first serve and she usually sells out.
URL:https://www.kofc3774.org/event/brendas-home-cooking-3/2027-04-12/
LOCATION:Member Lounge\, 17113 Champaign\, Allen Park\, MI\, 48101\, United States
END:VEVENT
BEGIN:VEVENT
DTSTART;TZID=UTC:20270419T170000
DTEND;TZID=UTC:20270419T190000
DTSTAMP:20260424T092941
CREATED:20240716T062532Z
LAST-MODIFIED:20240716T062535Z
UID:10000465-1808154000-1808161200@www.kofc3774.org
SUMMARY:Brenda's Home Cooking
DESCRIPTION:Every Monday Brenda Price makes home cooked meals along with a dessert with prices ranging from $8 to $12. It is first come\, first serve and she usually sells out.
URL:https://www.kofc3774.org/event/brendas-home-cooking-3/2027-04-19/
LOCATION:Member Lounge\, 17113 Champaign\, Allen Park\, MI\, 48101\, United States
END:VEVENT
BEGIN:VEVENT
DTSTART;TZID=UTC:20270426T170000
DTEND;TZID=UTC:20270426T190000
DTSTAMP:20260424T092941
CREATED:20240716T062532Z
LAST-MODIFIED:20240716T062535Z
UID:10000466-1808758800-1808766000@www.kofc3774.org
SUMMARY:Brenda's Home Cooking
DESCRIPTION:Every Monday Brenda Price makes home cooked meals along with a dessert with prices ranging from $8 to $12. It is first come\, first serve and she usually sells out.
URL:https://www.kofc3774.org/event/brendas-home-cooking-3/2027-04-26/
LOCATION:Member Lounge\, 17113 Champaign\, Allen Park\, MI\, 48101\, United States
END:VEVENT
BEGIN:VEVENT
DTSTART;TZID=UTC:20270503T170000
DTEND;TZID=UTC:20270503T190000
DTSTAMP:20260424T092941
CREATED:20240716T062532Z
LAST-MODIFIED:20240716T062535Z
UID:10000467-1809363600-1809370800@www.kofc3774.org
SUMMARY:Brenda's Home Cooking
DESCRIPTION:Every Monday Brenda Price makes home cooked meals along with a dessert with prices ranging from $8 to $12. It is first come\, first serve and she usually sells out.
URL:https://www.kofc3774.org/event/brendas-home-cooking-3/2027-05-03/
LOCATION:Member Lounge\, 17113 Champaign\, Allen Park\, MI\, 48101\, United States
END:VEVENT
END:VCALENDAR